BEGIN:VCALENDAR
VERSION:2.0
PRODID:-//Plone.org//NONSGML plone.app.event//EN
X-WR-TIMEZONE:Europe/Vienna
BEGIN:VEVENT
SUMMARY:Was das was bewegt: Alte Säge
DTSTART;TZID=Europe/Vienna:20260531T173000
DTSTAMP:20260421T004325Z
UID:9096be3124674badb343ffd51678a350@architekturtage.at
CATEGORIES:AT26
CREATED:20260318T150120Z
GEO:47.068039271660645;9.87551265172208
LAST-MODIFIED:20260324T074247Z
LOCATION;ALTREP="https://architekturtage.at/2021/vai/lib/adressbuch/alte-s
 aege":Alte Säge\, Gafazutweg 3\, 6774 Tschagguns\, Austria
URL:https://architekturtage.at/2021/vai/veranstaltungen/architekturtage/ar
 chitekturtage-2026/was-das-was-bewegt-alte-saege
END:VEVENT
BEGIN:VTIMEZONE
TZID:Europe/Vienna
X-LIC-LOCATION:Europe/Vienna
BEGIN:DAYLIGHT
DTSTART:20260329T030000
TZNAME:CEST
TZOFFSETFROM:+0100
TZOFFSETTO:+0200
END:DAYLIGHT
END:VTIMEZONE
END:VCALENDAR
