BEGIN:VCALENDAR
VERSION:2.0
PRODID:-//Plone.org//NONSGML plone.app.event//EN
X-WR-TIMEZONE:Europe/Vienna
BEGIN:VEVENT
SUMMARY:Stadtspaziergang Bludenz
DTSTART;TZID=Europe/Vienna:20260531T093000
DTSTAMP:20260419T161331Z
UID:cb4d1e29616c4b358dddd035ecb25a9e@architekturtage.at
CATEGORIES:AT26
CREATED:20260318T145751Z
GEO:47.15139487668604;9.816053033071926
LAST-MODIFIED:20260320T133449Z
LOCATION;ALTREP="https://architekturtage.at/2021/vai/lib/adressbuch/bremsc
 hlstrasse-1":Bremschlstraße 1\, 6706 Bürs\, Austria
URL:https://architekturtage.at/2021/vai/veranstaltungen/architekturtage/ar
 chitekturtage-2026/stadtspaziergang-bludenz
END:VEVENT
BEGIN:VTIMEZONE
TZID:Europe/Vienna
X-LIC-LOCATION:Europe/Vienna
BEGIN:DAYLIGHT
DTSTART:20260329T030000
TZNAME:CEST
TZOFFSETFROM:+0100
TZOFFSETTO:+0200
END:DAYLIGHT
END:VTIMEZONE
END:VCALENDAR
