BEGIN:VCALENDAR
VERSION:2.0
PRODID:-//Plone.org//NONSGML plone.app.event//EN
X-WR-TIMEZONE:Europe/Vienna
BEGIN:VEVENT
SUMMARY:Pubquiz: Infrastruktur
DTSTART;TZID=Europe/Vienna:20260530T190000
DTSTAMP:20260419T144519Z
UID:acff2293d87e40d296a7de95da9bda81@architekturtage.at
CATEGORIES:AT26
CREATED:20260318T144543Z
GEO:47.24914512411478;9.587411590849566
LAST-MODIFIED:20260319T091323Z
LOCATION;ALTREP="https://architekturtage.at/2021/vai/lib/adressbuch/ehemal
 ige-spinnerei-im-haemmerle-areal":Spinnerei im Hämmerle-Areal\, Hämmerle
 straße 22\, 6800 Feldkirch\, Austria
URL:https://architekturtage.at/2021/vai/veranstaltungen/architekturtage/ar
 chitekturtage-2026/pubquiz-infrastruktur
END:VEVENT
BEGIN:VTIMEZONE
TZID:Europe/Vienna
X-LIC-LOCATION:Europe/Vienna
BEGIN:DAYLIGHT
DTSTART:20260329T030000
TZNAME:CEST
TZOFFSETFROM:+0100
TZOFFSETTO:+0200
END:DAYLIGHT
END:VTIMEZONE
END:VCALENDAR
