BEGIN:VCALENDAR
VERSION:2.0
PRODID:-//Plone.org//NONSGML plone.app.event//EN
X-WR-TIMEZONE:Europe/Vienna
BEGIN:VEVENT
SUMMARY:Achtung Grenze?
DTSTART;TZID=Europe/Vienna:20260530T090000
DTEND;TZID=Europe/Vienna:20260530T170000
DTSTAMP:20260420T075522Z
UID:82b677d119ab4f36b75700ad4d0b9560@architekturtage.at
CATEGORIES:AT26
CREATED:20260318T144352Z
GEO:47.21890815057316;9.570691110987125
LAST-MODIFIED:20260325T104432Z
LOCATION;ALTREP="https://architekturtage.at/2021/vai/lib/adressbuch/liecht
 ensteiner-strasse-150a":Liechtensteiner Straße 150a\, 6800 Feldkirch\, Au
 stria
URL:https://architekturtage.at/2021/vai/veranstaltungen/architekturtage/ar
 chitekturtage-2026/kunst-an-der-grenze-tisis-schaanwald
END:VEVENT
BEGIN:VTIMEZONE
TZID:Europe/Vienna
X-LIC-LOCATION:Europe/Vienna
BEGIN:DAYLIGHT
DTSTART:20260329T030000
TZNAME:CEST
TZOFFSETFROM:+0100
TZOFFSETTO:+0200
END:DAYLIGHT
END:VTIMEZONE
END:VCALENDAR
