BEGIN:VCALENDAR
VERSION:2.0
PRODID:-//Plone.org//NONSGML plone.app.event//EN
X-WR-TIMEZONE:Europe/Vienna
BEGIN:VEVENT
SUMMARY:Kapfschlucht\, Kapfgarten und Drachenzahngalerie
DTSTART;TZID=Europe/Vienna:20260530T103000
DTSTAMP:20260420T011154Z
UID:070f1280200041f7ada13d70ec2ab491@architekturtage.at
CATEGORIES:AT26
CREATED:20260318T143740Z
GEO:47.238120380549184;9.590463022046567
LAST-MODIFIED:20260327T083801Z
LOCATION;ALTREP="https://architekturtage.at/2021/vai/lib/adressbuch/kapfga
 rten":Kapfgarten\, Im Kehr\, 6800 Feldkirch\, Austria
URL:https://architekturtage.at/2021/vai/veranstaltungen/architekturtage/ar
 chitekturtage-2026/kapfschlucht-kapfgarten-und-drachenzahlgallerie
END:VEVENT
BEGIN:VTIMEZONE
TZID:Europe/Vienna
X-LIC-LOCATION:Europe/Vienna
BEGIN:DAYLIGHT
DTSTART:20260329T030000
TZNAME:CEST
TZOFFSETFROM:+0100
TZOFFSETTO:+0200
END:DAYLIGHT
END:VTIMEZONE
END:VCALENDAR
