BEGIN:VCALENDAR
VERSION:2.0
PRODID:-//Plone.org//NONSGML plone.app.event//EN
X-WR-TIMEZONE:Europe/Vienna
BEGIN:VEVENT
SUMMARY:Interaktives Planspiel: Zwischen Croissant und öffentlichem Platz
DTSTART;TZID=Europe/Vienna:20260530T150000
DTEND;TZID=Europe/Vienna:20260530T160000
DTSTAMP:20260420T084319Z
UID:8ca2abf9c850444b9d30f40dc8ddd5cf@architekturtage.at
CATEGORIES:AT26
CREATED:20260318T133521Z
GEO:47.24914512411478;9.587411590849566
LAST-MODIFIED:20260327T083849Z
LOCATION;ALTREP="https://architekturtage.at/2021/vai/lib/adressbuch/ehemal
 ige-spinnerei-im-haemmerle-areal":Spinnerei im Hämmerle-Areal\, Hämmerle
 straße 22\, 6800 Feldkirch\, Austria
URL:https://architekturtage.at/2021/vai/veranstaltungen/architekturtage/ar
 chitekturtage-2026/interaktives-planspiel-vom-croissant-zur-schwammstadt
END:VEVENT
BEGIN:VTIMEZONE
TZID:Europe/Vienna
X-LIC-LOCATION:Europe/Vienna
BEGIN:DAYLIGHT
DTSTART:20260329T030000
TZNAME:CEST
TZOFFSETFROM:+0100
TZOFFSETTO:+0200
END:DAYLIGHT
END:VTIMEZONE
END:VCALENDAR
