BEGIN:VCALENDAR
VERSION:2.0
PRODID:-//Plone.org//NONSGML plone.app.event//EN
X-WR-TIMEZONE:Europe/Vienna
BEGIN:VEVENT
SUMMARY:Aktionsraum Naturgefahren Montafon
DTSTART;TZID=Europe/Vienna:20260531T130000
DTEND;TZID=Europe/Vienna:20260531T150000
DTSTAMP:20260420T222444Z
UID:401cf09f725f44a8966bc80bf33fd175@architekturtage.at
CATEGORIES:AT26
CREATED:20260318T145540Z
GEO:47.09197733215332;9.867775181808232
LAST-MODIFIED:20260325T104630Z
LOCATION;ALTREP="https://architekturtage.at/2021/vai/lib/adressbuch/aktion
 sraum-naturgefahren-montafon":Aktionsraum Naturgefahren Montafon\, Dorfstr
 aße 46\, 6773 Vandans\, Austria
URL:https://architekturtage.at/2021/vai/veranstaltungen/architekturtage/ar
 chitekturtage-2026/aktionsraum-naturgefahren-montafon
END:VEVENT
BEGIN:VTIMEZONE
TZID:Europe/Vienna
X-LIC-LOCATION:Europe/Vienna
BEGIN:DAYLIGHT
DTSTART:20260329T030000
TZNAME:CEST
TZOFFSETFROM:+0100
TZOFFSETTO:+0200
END:DAYLIGHT
END:VTIMEZONE
END:VCALENDAR
