BEGIN:VCALENDAR
VERSION:2.0
PRODID:-//Plone.org//NONSGML plone.app.event//EN
X-WR-TIMEZONE:Europe/Vienna
BEGIN:VEVENT
SUMMARY:KLAGENFURT UND SEINE [STADT-]BRUNNEN
DTSTART;TZID=Europe/Vienna:20260529T160000
DTSTAMP:20260420T041246Z
UID:de22874404d64f65a303ab41464d8504@architekturtage.at
CATEGORIES:Architektur Haus Kärnten,Architekturfestival,AT26
CONTACT:gr-mp:architecture\nDipl. Arch. ETH Georg Riesenhuber\nstaatlich b
 efugter und beeideter Ziviltechniker\nKraser Dorfstrasse 20\nA-9541 Einöd
 e/Treffen\nFon: +43 (0) 676 3358209‬\nE-Mail: ‭info@gr-mp.com\nWeb: ht
 tps://www.gr-mp.com/de.html\n\nArchitektur Haus Kärnten\nSt. Veiter Ring 
 10\nA-9020 Klagenfurt a. W.\nFon: +43 (0) 660/123 75 64\nE-Mail: office@ar
 chitektur-kaernten.at\nWeb: http://www.architektur-kaernten.at
CREATED:20260317T131940Z
DESCRIPTION:Erst [hin-]sehen\, dann zeichnen: Ausstellung im zt:haus\, Sta
 dt erkunden – und dann ab aufs Papier.\n\nIn der Ausstellungserweiterung
  zum Thema Infrastruktur schärft sich der Blick für all jenes\, das im A
 lltag oft übersehen wird. Danach geht’s hinaus in die Stadt – zu Brun
 nen und Wasser im Stadtraum – und direkt zum Zeichnen: Eindrücke werden
  im Workshop ganz persönlich aufs Papier gebracht.\n\nSo entstehen Skizze
 n\, die mehr zeigen als nur das Offensichtliche.\n\nDenn Zeichnen heißt a
 uch: Tempo rausnehmen\, den Blick schärfen und sich auf einen Ort einlass
 en. Linie für Linie entsteht ein eigener Zugang – aufmerksam\, unmittel
 bar und individuell.\n\nVorkenntnisse? Nicht nötig. Neugier genügt.\n\nE
 in Angebot für alle\, die Lust haben\, genauer hinzusehen – und das Ges
 ehene auf ihre eigene Weise festzuhalten.
GEO:46.6221272;14.3105368
LAST-MODIFIED:20260418T061009Z
LOCATION;ALTREP="https://architekturtage.at/2021/ahk/lib/adressbuch/zt-hau
 s":zt:haus Kärnten\, Bahnhofstraße 24\, 9020 Klagenfurt\, Austria
URL:https://architekturtage.at/2021/ahk/programm/kalender/skizziergang-kla
 genfurt-und-seine-stadt-brunnen
END:VEVENT
BEGIN:VTIMEZONE
TZID:Europe/Vienna
X-LIC-LOCATION:Europe/Vienna
BEGIN:DAYLIGHT
DTSTART:20260329T030000
TZNAME:CEST
TZOFFSETFROM:+0100
TZOFFSETTO:+0200
END:DAYLIGHT
END:VTIMEZONE
END:VCALENDAR
