BEGIN:VCALENDAR
VERSION:2.0
PRODID:-//Plone.org//NONSGML plone.app.event//EN
X-WR-TIMEZONE:Europe/Vienna
BEGIN:VEVENT
SUMMARY:PARADIES AM DOM • BIO-URNENFRIEDHOF
DTSTART;TZID=Europe/Vienna:20260529T150000
DTEND;TZID=Europe/Vienna:20260529T154500
DTSTAMP:20260419T133631Z
UID:5d2406984a0c4572a9df205b9141973a@architekturtage.at
CATEGORIES:AT26
CONTACT:ABEL und ABEL Architektur ZT GmbH\nVillacherstraße 59/1\nA-9020 K
 lagenfurt a. W.\nE-Mail: office@abelundabel.at\nWeb: https://www.abelundab
 el.at\n\nArchitektur Haus Kärnten\nSt. Veiter Ring 10\nA-9020 Klagenfurt 
 a. W.\nFon: +43 (0) 660/123 75 64\nE-Mail: office@architektur-kaernten.at\
 nWeb: http://www.architektur-kaernten.at
CREATED:20260322T195956Z
DESCRIPTION:Erstmals seit langer Zeit wird es wieder möglich\, in unmitte
 lbarer Nähe zur Domkirche beigesetzt zu werden. Allerdings anders als erw
 artet: nicht auf einem klassischen Friedhof\, sondern in einem offenen\, n
 aturnahen Garten. Es entsteht ein Ort\, der mehr ist als ein Platz des Ged
 enkens: ein ruhiger Rückzugsraum\, mitten im städtischen Leben. Ein Ort 
 zum Innehalten\, Spazieren\, Verweilen – und zum Nachdenken darüber\, w
 ie eng Leben\, Abschied und Erinnerung miteinander verwoben sind.\n\nUnd w
 as hat das mit Infrastruktur zu tun? Mehr als es auf den ersten Blick sche
 int: Auch Orte des Abschieds gehören zu den grundlegenden Strukturen eine
 r Stadt. Sie organisieren\, wie mit Tod\, Erinnerung und Gemeinschaft umge
 gangen wird – leise\, aber wirksam. Das »Paradies am Dom« zeigt\, wie 
 diese meist unsichtbare Infrastruktur neu gedacht werden kann – nicht am
  Rand\, sondern mitten in der Stadt\, im täglichen Leben\, als offen\, ge
 meinschaftlich und im Alltag verankert.\n\nIm Rahmen eines Rundgangs mit d
 er Architektin und dem Dompfarrer gibt es Einblicke in die Idee hinter dem
  Projekt\, seine Gestaltung und die Fragen\, die es aufwirft: Wie kann ein
  Ort aussehen\, an dem Leben und Tod nicht getrennt sind\, sondern gemeins
 am Raum finden?
GEO:46.62206677728825;14.30941027710797
LAST-MODIFIED:20260418T055733Z
LOCATION;ALTREP="https://architekturtage.at/2021/ahk/lib/adressbuch/hemmah
 of":Hemmahof\, Domplatz 1\, 9020 Klagenfurt\, Austria
URL:https://architekturtage.at/2021/ahk/programm/kalender/paradies-am-dom-
 rundgang-besichtigung-des-bio-urnenfriedhofs
END:VEVENT
BEGIN:VTIMEZONE
TZID:Europe/Vienna
X-LIC-LOCATION:Europe/Vienna
BEGIN:DAYLIGHT
DTSTART:20260329T030000
TZNAME:CEST
TZOFFSETFROM:+0100
TZOFFSETTO:+0200
END:DAYLIGHT
END:VTIMEZONE
END:VCALENDAR
