BEGIN:VCALENDAR
VERSION:2.0
PRODID:-//Plone.org//NONSGML plone.app.event//EN
X-WR-TIMEZONE:Europe/Vienna
BEGIN:VEVENT
SUMMARY:20-JÄHRIGES JUBILÄUM
DTSTART;TZID=Europe/Vienna:20260528T100000
DTEND;TZID=Europe/Vienna:20260529T180000
DTSTAMP:20260420T154341Z
UID:e01678ece388473c9fdec70c94fda7c5@architekturtage.at
CATEGORIES:Architektur Haus Kärnten,Architektur Spiel Raum,AT26
CONTACT:Architektur Spiel Raum Kärnten\nbaukulturelle Bildungsinitiative\
 nScholzstraße 3\nA-9500 Villach\nE-Mail: mail@architektur-spiel-raum.at\n
 Fon: +43 (0) 676/786 3080\nWeb: https://www.architektur-spiel-raum.at\n\nA
 rchitektur Haus Kärnten\nSt. Veiter Ring 10\nA-9020 Klagenfurt a. W.\nFon
 : +43 (0) 660/123 75 64\nE-Mail: office@architektur-kaernten.at\nWeb: http
 ://www.architektur-kaernten.at
CREATED:20260322T193046Z
DESCRIPTION:Seit 2006 wird hier gebaut\, gedacht\, gezeichnet – und vor 
 allem: gespielt. Über 1.000 Projekte\, mehr als 30.000 junge Teilnehmer:i
 nnen und unzählige Aha-Momente später wird 2026 ordentlich gefeiert!\n\n
 Der Auftakt? Passend zu den Architekturtagen 2026 – Festival für Baukul
 tur und Ingenieurtechnik – mit einem Workshopprogramm und einer Jubiläu
 msausstellung.\n\n»Don’t forget to play… vergiss nicht auf’s Spiele
 n!«\nDenn genau darum geht’s: Baukultur entdecken\, verstehen und mitge
 stalten – und zwar spielerisch. Der ARCHITEKTUR_SPIEL_RAUM KÄRNTEN brin
 gt seit zwei Jahrzehnten Kinder und Jugendliche dazu\, ihre gebaute Umwelt
  mit offenen Augen zu sehen und mit eigenen Ideen zu gestalten.\n\nOb Stad
 t\, Raum oder Architektur – hier wird ausprobiert\, hinterfragt und neu 
 gedacht. Ganz ohne Berührungsängste\, dafür mit viel Neugier und Fantas
 ie.\n\nDenn: Baukultur geht alle an und gute Ideen entstehen oft genau dor
 t\, wo MENSCHEN einfach anfangen zu SPIELEN.\n\nEin Jubiläum zum Mitmache
 n\, Mitdenken und Mitfeiern – für alle\, die Lust haben\, Architektur u
 nd Baukultur neu zu entdecken.
GEO:46.627829;14.306059
LAST-MODIFIED:20260418T060339Z
LOCATION;ALTREP="https://architekturtage.at/2021/ahk/lib/adressbuch/ahk":A
 rchitektur Haus Kärnten\, St. Veiter Ring 10\, 9020 Klagenfurt\, Austria
URL:https://architekturtage.at/2021/ahk/programm/kalender/jubilaeumsausste
 llung-workshops
END:VEVENT
BEGIN:VTIMEZONE
TZID:Europe/Vienna
X-LIC-LOCATION:Europe/Vienna
BEGIN:DAYLIGHT
DTSTART:20260329T030000
TZNAME:CEST
TZOFFSETFROM:+0100
TZOFFSETTO:+0200
END:DAYLIGHT
END:VTIMEZONE
END:VCALENDAR
