BEGIN:VCALENDAR
VERSION:2.0
PRODID:-//Plone.org//NONSGML plone.app.event//EN
X-WR-TIMEZONE:Europe/Vienna
BEGIN:VEVENT
SUMMARY:WAS UNS VERBINDET - Infrastrukturen des Alltags
DTSTART;VALUE=DATE:20260527
DTEND;VALUE=DATE:20260531
DTSTAMP:20260420T072853Z
UID:ab87747fefb24a1fb892a66625fc55da@architekturtage.at
CREATED:20260317T125053Z
LAST-MODIFIED:20260420T051518Z
URL:https://architekturtage.at/2021/ahk/programm/kalender/architekturtage-
 2026-festival-fuer-baukultur-und-ingenieurtechnik
END:VEVENT
END:VCALENDAR
