BEGIN:VCALENDAR
VERSION:2.0
PRODID:-//Plone.org//NONSGML plone.app.event//EN
X-WR-TIMEZONE:Europe/Vienna
BEGIN:VEVENT
SUMMARY:KOOLHAAS HOUSELIFE
DTSTART;TZID=Europe/Vienna:20260527T180000
DTSTAMP:20260420T051111Z
UID:a088ef19f2e14eab91d50491a3ad9662@architekturtage.at
CATEGORIES:Architektur Haus Kärnten,AT26
CONTACT:Architektur Haus Kärnten\, office@architektur-kaernten.at\, http:
 //www.architektur-kaernten.at\, +43 (0) 660 / 123 75 64
CREATED:20260317T132958Z
DESCRIPTION:Ein berühmtes Haus\, ein weltbekannter Architekt – und ein 
 Blick\, der alles auf den Kopf stellt. Statt Architektur als perfektes Sch
 au- und Wohnobjekt zu inszenieren\, zeigt der Spielfilm von Ila Bêka & Lo
 uise Lemoine die von Rem Koolhaas entworfene Maison à Bordeaux mitten im 
 alltäglichen Leben. Im Zentrum steht der Alltag in den Räumen – erzäh
 lt mit Witz\, Genauigkeit und viel Gespür für die kleinen\, oft überseh
 enen Details. Im Anschluss lädt ein Panelgespräch dazu ein\, Architektur
 \, Care-Arbeit und feministische Perspektiven zusammen zudenken – und da
 mit jene unsichtbaren Infrastrukturen sichtbar zu machen\, die den Alltag 
 tragen.
GEO:46.6144309;14.3092468
LAST-MODIFIED:20260407T102716Z
LOCATION;ALTREP="https://architekturtage.at/2021/ahk/lib/adressbuch/volksk
 ino":Volkskino\, Kinoplatz 3\, 9020 Klagenfurt\, Austria
URL:https://architekturtage.at/2021/ahk/programm/kalender/architekturfilm-
 panelgespraech
END:VEVENT
BEGIN:VTIMEZONE
TZID:Europe/Vienna
X-LIC-LOCATION:Europe/Vienna
BEGIN:DAYLIGHT
DTSTART:20260329T030000
TZNAME:CEST
TZOFFSETFROM:+0100
TZOFFSETTO:+0200
END:DAYLIGHT
END:VTIMEZONE
END:VCALENDAR
