BEGIN:VCALENDAR
VERSION:2.0
PRODID:-//Plone.org//NONSGML plone.app.event//EN
X-WR-TIMEZONE:Europe/Vienna
BEGIN:VEVENT
SUMMARY:Unter Strom: Führung durch das Kraftwerk Latschau
DTSTART;TZID=Europe/Vienna:20260531T133000
DTSTAMP:20260419T213701Z
UID:e6268f014a4b4713bef9b01d51e2e20b@architekturtage.at
CATEGORIES:AT26
CREATED:20260318T145905Z
GEO:47.074960413672905;9.875334512826667
LAST-MODIFIED:20260324T073636Z
LOCATION;ALTREP="https://architekturtage.at/2019/vai/lib/adressbuch/latsch
 au-kraftwerk":Latschau Kraftwerk\, Latschaustraße 60\, 6774 Tschagguns\, 
 Austria
URL:https://architekturtage.at/2019/vai/veranstaltungen/architekturtage/ar
 chitekturtage-2026/unter-strom-fuehrung-durch-das-kraftwerk-latschau
END:VEVENT
BEGIN:VTIMEZONE
TZID:Europe/Vienna
X-LIC-LOCATION:Europe/Vienna
BEGIN:DAYLIGHT
DTSTART:20260329T030000
TZNAME:CEST
TZOFFSETFROM:+0100
TZOFFSETTO:+0200
END:DAYLIGHT
END:VTIMEZONE
END:VCALENDAR
