BEGIN:VCALENDAR
VERSION:2.0
PRODID:-//Plone.org//NONSGML plone.app.event//EN
X-WR-TIMEZONE:Europe/Vienna
BEGIN:VEVENT
SUMMARY:Zwischen Croissant und öffentlichem Platz
DTSTART;TZID=Europe/Vienna:20260530T133000
DTSTAMP:20260420T011330Z
UID:d7f8224f52a240b3a36f7ea06280f22b@architekturtage.at
CATEGORIES:AT26
CREATED:20260318T143256Z
GEO:47.23850196388607;9.59688379749327
LAST-MODIFIED:20260320T160058Z
LOCATION;ALTREP="https://architekturtage.at/2019/vai/lib/adressbuch/haus-a
 m-katzenturm":Haus am Katzenturm\, Herrengasse 14\, 6800 Feldkirch\, Austr
 ia
URL:https://architekturtage.at/2019/vai/veranstaltungen/architekturtage/ar
 chitekturtage-2026/haus-am-katzenturm
END:VEVENT
BEGIN:VTIMEZONE
TZID:Europe/Vienna
X-LIC-LOCATION:Europe/Vienna
BEGIN:DAYLIGHT
DTSTART:20260329T030000
TZNAME:CEST
TZOFFSETFROM:+0100
TZOFFSETTO:+0200
END:DAYLIGHT
END:VTIMEZONE
END:VCALENDAR
