BEGIN:VCALENDAR
VERSION:2.0
PRODID:-//Plone.org//NONSGML plone.app.event//EN
X-WR-TIMEZONE:Europe/Vienna
BEGIN:VEVENT
SUMMARY:Ein Abend in der Spinnerei: Architektur\, Musik\, Kunst
DTSTART;TZID=Europe/Vienna:20260530T180000
DTSTAMP:20260420T103807Z
UID:ff2cd5d8cfe840209b04ca24b964cae5@architekturtage.at
CATEGORIES:AT26
CREATED:20260318T143954Z
GEO:47.24914512411478;9.587411590849566
LAST-MODIFIED:20260320T121306Z
LOCATION;ALTREP="https://architekturtage.at/2019/vai/lib/adressbuch/ehemal
 ige-spinnerei-im-haemmerle-areal":Spinnerei im Hämmerle-Areal\, Hämmerle
 straße 22\, 6800 Feldkirch\, Austria
URL:https://architekturtage.at/2019/vai/veranstaltungen/architekturtage/ar
 chitekturtage-2026/haemmerle-areal
END:VEVENT
BEGIN:VTIMEZONE
TZID:Europe/Vienna
X-LIC-LOCATION:Europe/Vienna
BEGIN:DAYLIGHT
DTSTART:20260329T030000
TZNAME:CEST
TZOFFSETFROM:+0100
TZOFFSETTO:+0200
END:DAYLIGHT
END:VTIMEZONE
END:VCALENDAR
