BEGIN:VCALENDAR
VERSION:2.0
PRODID:-//Plone.org//NONSGML plone.app.event//EN
X-WR-TIMEZONE:Europe/Vienna
BEGIN:VEVENT
SUMMARY:Bahnhof Bregenz: Annäherungen an ein Verschwinden
DTSTART;TZID=Europe/Vienna:20260529T180000
DTSTAMP:20260419T161659Z
UID:3b879f4860a94ae1afd29efc781c0d16@architekturtage.at
CATEGORIES:AT26
CREATED:20260318T134056Z
GEO:47.50238428970488;9.74044166008265
LAST-MODIFIED:20260324T083940Z
LOCATION;ALTREP="https://architekturtage.at/2019/vai/lib/adressbuch/bregen
 z-bahnhof":Bregenz Bahnhof\, Fritz-Mayer-Platz 1\, 6900 Bregenz\, Austria
URL:https://architekturtage.at/2019/vai/veranstaltungen/architekturtage/ar
 chitekturtage-2026/bahnhof-bregenz-annaeherungen-an-ein-verschwinden
END:VEVENT
BEGIN:VTIMEZONE
TZID:Europe/Vienna
X-LIC-LOCATION:Europe/Vienna
BEGIN:DAYLIGHT
DTSTART:20260329T030000
TZNAME:CEST
TZOFFSETFROM:+0100
TZOFFSETTO:+0200
END:DAYLIGHT
END:VTIMEZONE
END:VCALENDAR
