BEGIN:VCALENDAR
VERSION:2.0
PRODID:-//Plone.org//NONSGML plone.app.event//EN
X-WR-TIMEZONE:Europe/Vienna
BEGIN:VEVENT
SUMMARY:Baustellenführung bei der ÖBB-Haltestelle Feldkirch-Tosters
DTSTART;TZID=Europe/Vienna:20260530T141500
DTSTAMP:20260420T071726Z
UID:42c6b36671544469ac3f1a51e8fb64eb@architekturtage.at
CATEGORIES:AT26
CREATED:20260318T144245Z
GEO:47.2336038259406;9.578562850060337
LAST-MODIFIED:20260320T114855Z
LOCATION;ALTREP="https://architekturtage.at/2019/vai/lib/adressbuch/hohle-
 gasse":Hohle Gasse\, 6800 Feldkirch\, Austria
URL:https://architekturtage.at/2019/vai/veranstaltungen/architekturtage/ar
 chitekturtage-2026/bahnbau-im-betrieb-baustellenfuehrung-bei-der-oebb-halt
 estelle-feldkirch-tosters
END:VEVENT
BEGIN:VTIMEZONE
TZID:Europe/Vienna
X-LIC-LOCATION:Europe/Vienna
BEGIN:DAYLIGHT
DTSTART:20260329T030000
TZNAME:CEST
TZOFFSETFROM:+0100
TZOFFSETTO:+0200
END:DAYLIGHT
END:VTIMEZONE
END:VCALENDAR
