BEGIN:VCALENDAR
VERSION:2.0
PRODID:-//Plone.org//NONSGML plone.app.event//EN
X-WR-TIMEZONE:Europe/Vienna
BEGIN:VEVENT
SUMMARY:Ausstellungsgespräch "Form Follows Love" mit Verena Jakoubek-Konr
 ad
DTSTART;TZID=Europe/Vienna:20260425T110000
DTSTAMP:20260419T150421Z
UID:306294cb8a2f47e592e2e7566a3572c3@architekturtage.at
CREATED:20260408T144006Z
GEO:47.4116746;9.742560000000001
LAST-MODIFIED:20260408T152936Z
LOCATION;ALTREP="https://architekturtage.at/2019/vai/lib/adressbuch/vai-vo
 rarlberger-architektur-institut":vai Vorarlberger Architektur Institut\, M
 arktstraße 33\, 6850 Dornbirn\, Austria
URL:https://architekturtage.at/2019/vai/ausstellungen/anna-heringer-form-f
 ollows-love/ausstellungsgespraeche-mit-verena-jakoubek-konrad
END:VEVENT
BEGIN:VTIMEZONE
TZID:Europe/Vienna
X-LIC-LOCATION:Europe/Vienna
BEGIN:DAYLIGHT
DTSTART:20260329T030000
TZNAME:CEST
TZOFFSETFROM:+0100
TZOFFSETTO:+0200
END:DAYLIGHT
END:VTIMEZONE
END:VCALENDAR
