BEGIN:VCALENDAR
VERSION:2.0
PRODID:-//Plone.org//NONSGML plone.app.event//EN
X-WR-TIMEZONE:Europe/Vienna
BEGIN:VEVENT
SUMMARY:Umbauhof
DTSTART;TZID=Europe/Vienna:20260526T190000
DTSTAMP:20260419T130511Z
UID:4bc7e3501fa74a6b86a38de11d6e9ac1@architekturtage.at
CREATED:20260326T103300Z
DESCRIPTION:Eine Veranstaltung in Kooperation mit Architektur Raumburgenla
 nd[br]\nMit: Andrea Kessler\, asphalt / Kollektiv für Architektur[br]\nMo
 deration: Nikolaus Gartner / ARB\, Maik Novotny / ÖGFA
GEO:48.197034;16.352723
LAST-MODIFIED:20260416T094616Z
LOCATION;ALTREP="https://architekturtage.at/2019/ogfa/lib/adressbuch/raeum
 e-der-ig-architektur":Räume der IG Architektur\, Gumpendorfer Straße 63b
 \, 1060 Wien\, Austria
URL:https://architekturtage.at/2019/ogfa/programm/jahresschwerpunkt/2025-2
 6-infrastruktur-und-transformation/umbauhof
END:VEVENT
BEGIN:VTIMEZONE
TZID:Europe/Vienna
X-LIC-LOCATION:Europe/Vienna
BEGIN:DAYLIGHT
DTSTART:20260329T030000
TZNAME:CEST
TZOFFSETFROM:+0100
TZOFFSETTO:+0200
END:DAYLIGHT
END:VTIMEZONE
END:VCALENDAR
