BEGIN:VCALENDAR
VERSION:2.0
PRODID:-//Plone.org//NONSGML plone.app.event//EN
X-WR-TIMEZONE:Europe/Vienna
BEGIN:VEVENT
SUMMARY:The Alienation Effect
DTSTART;TZID=Europe/Vienna:20260608T190000
DTSTAMP:20260420T050033Z
UID:95e2c5b71222485381967ab7ba30a21e@architekturtage.at
CREATED:20260326T103511Z
DESCRIPTION:With: Owen Hatherley[br]\nModeration: Michael Klein / ÖGFA
GEO:48.2031754;16.3568226
LAST-MODIFIED:20260416T084943Z
LOCATION;ALTREP="https://architekturtage.at/2019/ogfa/lib/adressbuch/depot
 ":Depot\, Breite Gasse 3\, 1070 Wien\, Austria
URL:https://architekturtage.at/2019/ogfa/programm/jahresschwerpunkt/2025-2
 6-infrastruktur-und-transformation/the-alienation-effect
END:VEVENT
BEGIN:VTIMEZONE
TZID:Europe/Vienna
X-LIC-LOCATION:Europe/Vienna
BEGIN:DAYLIGHT
DTSTART:20260329T030000
TZNAME:CEST
TZOFFSETFROM:+0100
TZOFFSETTO:+0200
END:DAYLIGHT
END:VTIMEZONE
END:VCALENDAR
