BEGIN:VCALENDAR
VERSION:2.0
PRODID:-//Plone.org//NONSGML plone.app.event//EN
X-WR-TIMEZONE:Europe/Vienna
BEGIN:VEVENT
SUMMARY:Auf der Gastarbajteri-Route
DTSTART;TZID=Europe/Vienna:20260626T080000
DTEND;TZID=Europe/Vienna:20260626T210000
DTSTAMP:20260420T134339Z
UID:5dc0a9f6594b40b1ad559d87da574554@architekturtage.at
CREATED:20260326T104458Z
DESCRIPTION:Begleitet von Vorträgen\, Lesungen und Diskussionen mit Zeitz
 eug*innen und Expert*innen[br]\nModeration: Maik Novotny\, Amila Širbegov
 ić / ÖGFA[br]\nUnkostenbeitrag
GEO:48.18716;16.38423
LAST-MODIFIED:20260416T142428Z
LOCATION;ALTREP="https://architekturtage.at/2019/ogfa/lib/adressbuch/treff
 punkt-busparkplatz-schweizergarten":Treffpunkt: Busparkplatz [br]Schweizer
 garten\, 1030 Wien\, Austria
URL:https://architekturtage.at/2019/ogfa/programm/jahresschwerpunkt/2025-2
 6-infrastruktur-und-transformation/auf-der-gastarbajteri-route
END:VEVENT
BEGIN:VTIMEZONE
TZID:Europe/Vienna
X-LIC-LOCATION:Europe/Vienna
BEGIN:DAYLIGHT
DTSTART:20260329T030000
TZNAME:CEST
TZOFFSETFROM:+0100
TZOFFSETTO:+0200
END:DAYLIGHT
END:VTIMEZONE
END:VCALENDAR
