BEGIN:VCALENDAR
VERSION:2.0
PRODID:-//Plone.org//NONSGML plone.app.event//EN
X-WR-TIMEZONE:Europe/Vienna
BEGIN:VEVENT
SUMMARY:Wasserbehälter und Wasserturm am Wienerberg
DTSTART;TZID=Europe/Vienna:20260529T140000
DTEND;TZID=Europe/Vienna:20260529T160000
DTSTAMP:20260420T030324Z
UID:79e242b36a3449e3a17795030fdf4a5d@architekturtage.at
CATEGORIES:AT26,Architekturtage 2026
CREATED:20260318T140055Z
DESCRIPTION:Mit: Christoph Ressler\, Norbert Klicha. In Begleitung von: El
 ise Feiersinger / ÖGFA
GEO:48.16965;16.35316
LAST-MODIFIED:20260325T104718Z
LOCATION;ALTREP="https://architekturtage.at/2019/ogfa/lib/adressbuch/wasse
 rturm-am-wienerberg":Wasserturm am Wienerberg\, Windtenstraße 3\, 1100 Wi
 en\, Austria
URL:https://architekturtage.at/2019/ogfa/programm/architekturtage/architek
 turtage-2026/wasserbehaelter-und-wasserturm-am-wienerberg
END:VEVENT
BEGIN:VTIMEZONE
TZID:Europe/Vienna
X-LIC-LOCATION:Europe/Vienna
BEGIN:DAYLIGHT
DTSTART:20260329T030000
TZNAME:CEST
TZOFFSETFROM:+0100
TZOFFSETTO:+0200
END:DAYLIGHT
END:VTIMEZONE
END:VCALENDAR
