BEGIN:VCALENDAR
VERSION:2.0
PRODID:-//Plone.org//NONSGML plone.app.event//EN
X-WR-TIMEZONE:Europe/Vienna
BEGIN:VEVENT
SUMMARY:sophie7
DTSTART;TZID=Europe/Vienna:20260530T140000
DTEND;TZID=Europe/Vienna:20260530T160000
DTSTAMP:20260420T221556Z
UID:a2d72f1542f6414ab759c5048618a958@architekturtage.at
CATEGORIES:AT26,Architekturtage 2026
CREATED:20260318T145914Z
DESCRIPTION:Mit: Alexander Skopek\, Bauträger und Architekt*innen. In Beg
 leitung von: Maik Novotny / ÖGFA
GEO:48.19801065776828;16.341024661333904
LAST-MODIFIED:20260325T104453Z
LOCATION;ALTREP="https://architekturtage.at/2019/ogfa/lib/adressbuch/sophi
 e-7":sophie7\, Apollogasse 19\, 1070 Wien\, Austria
URL:https://architekturtage.at/2019/ogfa/programm/architekturtage/architek
 turtage-2026/sophie7
END:VEVENT
BEGIN:VTIMEZONE
TZID:Europe/Vienna
X-LIC-LOCATION:Europe/Vienna
BEGIN:DAYLIGHT
DTSTART:20260329T030000
TZNAME:CEST
TZOFFSETFROM:+0100
TZOFFSETTO:+0200
END:DAYLIGHT
END:VTIMEZONE
END:VCALENDAR
