BEGIN:VCALENDAR
VERSION:2.0
PRODID:-//Plone.org//NONSGML plone.app.event//EN
X-WR-TIMEZONE:Europe/Vienna
BEGIN:VEVENT
SUMMARY:Rund um den Wiener Zentralfriedhof
DTSTART;TZID=Europe/Vienna:20260529T100000
DTEND;TZID=Europe/Vienna:20260529T130000
DTSTAMP:20260419T130521Z
UID:b1dc0a64946845e1bd4c79a03c7bdbba@architekturtage.at
CATEGORIES:Architekturtage 2026,AT26
CREATED:20260312T113416Z
DESCRIPTION:Mit: Christian Tabernig\, Eva Schrade\, Gustav Pichelmann\, Li
 sa Pernkopf und Bernhard Salzer. In Begleitung von: Felix Siegrist / ÖGFA
GEO:48.15537;16.44178
LAST-MODIFIED:20260324T164942Z
LOCATION;ALTREP="https://architekturtage.at/2019/ogfa/lib/adressbuch/wiene
 r-zentralfriedhof":Wiener Zentralfriedhof\, Simmeringer Hauptstraße 339\,
  1110 Wien\, Austria
URL:https://architekturtage.at/2019/ogfa/programm/architekturtage/architek
 turtage-2026/rund-um-den-wiener-zentralfriedhof
END:VEVENT
BEGIN:VTIMEZONE
TZID:Europe/Vienna
X-LIC-LOCATION:Europe/Vienna
BEGIN:DAYLIGHT
DTSTART:20260329T030000
TZNAME:CEST
TZOFFSETFROM:+0100
TZOFFSETTO:+0200
END:DAYLIGHT
END:VTIMEZONE
END:VCALENDAR
