BEGIN:VCALENDAR
VERSION:2.0
PRODID:-//Plone.org//NONSGML plone.app.event//EN
X-WR-TIMEZONE:Europe/Vienna
BEGIN:VEVENT
SUMMARY:Rund um den Knoten Spittelau
DTSTART;TZID=Europe/Vienna:20260530T100000
DTEND;TZID=Europe/Vienna:20260530T130000
DTSTAMP:20260421T001556Z
UID:fd2b8857599047eb8acb7cd006e59d59@architekturtage.at
CATEGORIES:AT26,Architekturtage 2026
CREATED:20260318T141331Z
DESCRIPTION:Mit: Aneta Bulant und Klaus Wailzer\, Johannes Fandl und Maria
 n Rudhart\, David Kreytenberg\, Cordula Loidl-Reisch\, Anna Soucek\, Silja
  Tillner und Alfred Willinger\, Thomas Rauch\, Sophie Gruber. Begleitung u
 nd Moderation: Suzanne Kříženecký / Az W\, Felix Siegrist / ÖGFA
GEO:48.24514;16.36529
LAST-MODIFIED:20260408T110235Z
LOCATION;ALTREP="https://architekturtage.at/2019/ogfa/lib/adressbuch/wild-
 im-west":Wild im West\, Gunoldstraße 14\, 1190 Wien\, Austria
URL:https://architekturtage.at/2019/ogfa/programm/architekturtage/architek
 turtage-2026/rund-um-den-knoten-spittelau
END:VEVENT
BEGIN:VTIMEZONE
TZID:Europe/Vienna
X-LIC-LOCATION:Europe/Vienna
BEGIN:DAYLIGHT
DTSTART:20260329T030000
TZNAME:CEST
TZOFFSETFROM:+0100
TZOFFSETTO:+0200
END:DAYLIGHT
END:VTIMEZONE
END:VCALENDAR
