BEGIN:VCALENDAR
VERSION:2.0
PRODID:-//Plone.org//NONSGML plone.app.event//EN
X-WR-TIMEZONE:Europe/Vienna
BEGIN:VEVENT
SUMMARY:Von der Quelle in das Bad – Thermalwasserverteilsystem von Bad G
 astein
DTSTART;TZID=Europe/Vienna:20260530T110000
DTSTAMP:20260420T031325Z
UID:e4d95d97a6d542bebba8fb4728ea22a9@architekturtage.at
CATEGORIES:AT26
CREATED:20260317T122522Z
DESCRIPTION:Der Spaziergang beginnt mit der Besichtigung der Elisabethquel
 le und führt zur Sammlung des Thermalwassers sowie zur Pumpenanlage. Dana
 ch geht es zum Hochbehälter Helenenburg und anschließend in die Villa Ex
 celsior\, wo exemplarisch die Befüllung eines Thermalbades erfolgt. Zum A
 bschluss lädt Hotelier Christof Erharter zum gemeinsamen Probebaden in de
 r Thermalbadeabteilung des Hotels ein.
GEO:47.115319;13.137661
LAST-MODIFIED:20260325T085215Z
LOCATION;ALTREP="https://architekturtage.at/2019/ia/lib/adressbuch/kirchen
 vorplatz-pfarrkirche-zu-den-hll-primus-und-felizian-bad-gastein":Kirchenvo
 rplatz\, Pfarrkirche zu den hll. Primus und Felizian Bad Gastein\, Bismarc
 kstraße 3\, 5640 Bad Gastein\, Austria
URL:https://architekturtage.at/2019/ia/kalender/von-der-quelle-in-das-bad-
 thermalwasserverteilsystem-von-bad-gastein
END:VEVENT
BEGIN:VTIMEZONE
TZID:Europe/Vienna
X-LIC-LOCATION:Europe/Vienna
BEGIN:DAYLIGHT
DTSTART:20260329T030000
TZNAME:CEST
TZOFFSETFROM:+0100
TZOFFSETTO:+0200
END:DAYLIGHT
END:VTIMEZONE
END:VCALENDAR
