BEGIN:VCALENDAR
VERSION:2.0
PRODID:-//Plone.org//NONSGML plone.app.event//EN
X-WR-TIMEZONE:Europe/Vienna
BEGIN:VEVENT
SUMMARY:Salzachwasser. Von Stadtgrenze zu Stadtgrenze
DTSTART;TZID=Europe/Vienna:20260529T130000
DTSTAMP:20260419T160747Z
UID:4fabc38fae7b48549a427c7e2f1bd9d5@architekturtage.at
CATEGORIES:AT26
CREATED:20260318T120830Z
DESCRIPTION:Der Tragwerksplaner und Wasserbauingenieur Thomas Forsthuber w
 ird auf dieser Radtour entlang der Salzach aber nicht nur auf die Brücken
  über die Salzach\, sondern auf zahlreiche andere Infrastrukturbauten\, d
 ie an der Salzach liegen eingehen.
GEO:47.78161988403573;13.076911985029827
LAST-MODIFIED:20260325T093728Z
LOCATION;ALTREP="https://architekturtage.at/2019/ia/lib/adressbuch/wilhelm
 -kaufmann-steg":Wilhelm-Kaufmann-Steg\, 5020 Salzburg\, Austria
URL:https://architekturtage.at/2019/ia/kalender/salzachwasser-von-stadtgre
 nze-zu-stadtgrenze
END:VEVENT
BEGIN:VTIMEZONE
TZID:Europe/Vienna
X-LIC-LOCATION:Europe/Vienna
BEGIN:DAYLIGHT
DTSTART:20260329T030000
TZNAME:CEST
TZOFFSETFROM:+0100
TZOFFSETTO:+0200
END:DAYLIGHT
END:VTIMEZONE
END:VCALENDAR
