BEGIN:VCALENDAR
VERSION:2.0
PRODID:-//Plone.org//NONSGML plone.app.event//EN
X-WR-TIMEZONE:Europe/Vienna
BEGIN:VEVENT
SUMMARY:Neue Gestaltungsmöglichkeiten durch innovative Verbindungsmittel 
 im Holzbau
DTSTART;TZID=Europe/Vienna:20260624T183000
DTSTAMP:20260419T161408Z
UID:0f72db592d294b2abb7182efc11a6445@architekturtage.at
CATEGORIES:Vortrag,Rahmenprogramm,Ausstellung
CREATED:20260326T100051Z
DESCRIPTION:Stephan Bertagnolli zeigt\, wie innovative Verbindungsmittel n
 eue architektonische Freiheiten im Holzbau eröffnen. Im Fokus steht ein r
 evolutionäres System\, das stützenbasierte Hochhauslösungen ohne Unterz
 üge und mit beeindruckenden Spannweiten ermöglicht.
GEO:47.79496602651422;13.030600547790527
LAST-MODIFIED:20260409T115100Z
LOCATION;ALTREP="https://architekturtage.at/2019/ia/lib/adressbuch/archite
 kturhaus-salzburg":Architekturhaus Salzburg\, Sinnhubstraße 3\, 5020 Salz
 burg\, Austria
URL:https://architekturtage.at/2019/ia/kalender/neue-gestaltungsmoeglichke
 iten-durch-innovative-verbindungsmittel-im-holzbau
END:VEVENT
BEGIN:VTIMEZONE
TZID:Europe/Vienna
X-LIC-LOCATION:Europe/Vienna
BEGIN:DAYLIGHT
DTSTART:20260329T030000
TZNAME:CEST
TZOFFSETFROM:+0100
TZOFFSETTO:+0200
END:DAYLIGHT
END:VTIMEZONE
END:VCALENDAR
