BEGIN:VCALENDAR
VERSION:2.0
PRODID:-//Plone.org//NONSGML plone.app.event//EN
X-WR-TIMEZONE:Europe/Vienna
BEGIN:VEVENT
SUMMARY:Auf die Plätze!
DTSTART;TZID=Europe/Vienna:20260520T180000
DTSTAMP:20260419T123433Z
UID:e6347f895db7435d8e0a2f2bd10ddb4d@architekturtage.at
CATEGORIES:AT26
CREATED:20260324T121328Z
DESCRIPTION:ohnetitel\, ein Netzwerk für Theater & Kunstprojekte\, erkund
 et den öffentlichen Raum nach geltenden Kriterien\, die die Bespielung de
 r Stadt möglich bis unmöglich machen.
GEO:47.805105959017375;13.050456941127777
LAST-MODIFIED:20260417T113138Z
LOCATION;ALTREP="https://architekturtage.at/2019/ia/lib/adressbuch/schallm
 ooser-hauptstrasse-5":Schallmooser Hauptstraße 5\, 5020 Salzburg\, Austri
 a
URL:https://architekturtage.at/2019/ia/kalender/auf-die-plaetze
END:VEVENT
BEGIN:VTIMEZONE
TZID:Europe/Vienna
X-LIC-LOCATION:Europe/Vienna
BEGIN:DAYLIGHT
DTSTART:20260329T030000
TZNAME:CEST
TZOFFSETFROM:+0100
TZOFFSETTO:+0200
END:DAYLIGHT
END:VTIMEZONE
END:VCALENDAR
