BEGIN:VCALENDAR
VERSION:2.0
PRODID:-//Plone.org//NONSGML plone.app.event//EN
X-WR-TIMEZONE:Europe/Vienna
BEGIN:VEVENT
SUMMARY:Treffpunkt Bögen. Multifunktionale Orte unter der Bahn
DTSTART;TZID=Europe/Vienna:20260529T160000
DTEND;TZID=Europe/Vienna:20260529T180000
DTSTAMP:20260419T133134Z
UID:20eeedf511904328b7319e4f82ffde06@architekturtage.at
CATEGORIES:Architekturtage 2026,AT26
CREATED:20240314T155907Z
DESCRIPTION:Unternehmen Sie mit Renate Ursprunger vom Stadtarchiv/Stadtmus
 eum Innsbruck einen Spaziergang entlang der Innsbrucker Viaduktbögen und 
 erfahren Sie dabei mehr über dieses ungewöhnliche Stück Stadt und seine
  Geschichte.
GEO:47.263369930901945;11.401662826538084
LAST-MODIFIED:20260326T111154Z
LOCATION;ALTREP="https://architekturtage.at/2019/aut/lib/adressbuch/hauptf
 rachtenbahnhof":Treffpunkt: Hauptfrachtenbahnhof 3\, 6020 Innsbruck\, Aust
 ria
URL:https://architekturtage.at/2019/aut/veranstaltungen/architekturtage-20
 26/treffpunkt_boegen
END:VEVENT
BEGIN:VTIMEZONE
TZID:Europe/Vienna
X-LIC-LOCATION:Europe/Vienna
BEGIN:DAYLIGHT
DTSTART:20260329T030000
TZNAME:CEST
TZOFFSETFROM:+0100
TZOFFSETTO:+0200
END:DAYLIGHT
END:VTIMEZONE
END:VCALENDAR
