BEGIN:VCALENDAR
VERSION:2.0
PRODID:-//Plone.org//NONSGML plone.app.event//EN
X-WR-TIMEZONE:Europe/Vienna
BEGIN:VEVENT
SUMMARY:Kreuz und quer über Sill und Inn
DTSTART;TZID=Europe/Vienna;VALUE=DATE-TIME:20260530T160000
DTEND;TZID=Europe/Vienna;VALUE=DATE-TIME:20260530T180000
DTSTAMP;VALUE=DATE-TIME:20260422T143844Z
UID:08e1feadf2dc4e62a4b6f649b3400f29@aaf-live-raw.web.kup.tirol
CATEGORIES:Architekturtage 2026,AT26
CREATED;VALUE=DATE-TIME:20240314T155907Z
DESCRIPTION:Begleiten Sie Hans Peter Gruber und Thomas Sigl auf einer Radt
 our zu drei von ihnen entworfenen Innsbrucker Brücken und erfahren Sie Hi
 ntergründe und wasserbauliche\, städtebauliche und gestalterische Zielse
 tzungen.
GEO:47.27412637252589;11.429386138916016
LAST-MODIFIED;VALUE=DATE-TIME:20260421T141445Z
LOCATION;ALTREP="https://architekturtage.at/2019/aut/lib/adressbuch/treffp
 unkt-grenobler-bruecke-rechtes-innufer-radweg":Treffpunkt: Grenobler Brüc
 ke\, rechtes Innufer (Radweg)\, 6020 Innsbruck\, Österreich
URL:https://architekturtage.at/2019/aut/veranstaltungen/architekturtage-20
 26/kreuz-und-quer
END:VEVENT
BEGIN:VTIMEZONE
TZID:Europe/Vienna
X-LIC-LOCATION:Europe/Vienna
BEGIN:DAYLIGHT
DTSTART;VALUE=DATE-TIME:20260329T030000
TZNAME:CEST
TZOFFSETFROM:+0100
TZOFFSETTO:+0200
END:DAYLIGHT
END:VTIMEZONE
END:VCALENDAR
