BEGIN:VCALENDAR
VERSION:2.0
PRODID:-//Plone.org//NONSGML plone.app.event//EN
X-WR-TIMEZONE:Europe/Vienna
BEGIN:VEVENT
SUMMARY:ARCHITEKTURTAGE 2026 – FESTIVAL FÜR BAUKULTUR UND INGENIEURTECH
 NIK
DTSTART;VALUE=DATE:20260528
DTEND;VALUE=DATE:20260531
DTSTAMP;VALUE=DATE-TIME:20260422T094754Z
UID:ab87747fefb24a1fb892a66625fc55da@aaf-live-raw.web.kup.tirol
CREATED;VALUE=DATE-TIME:20260317T125053Z
LAST-MODIFIED;VALUE=DATE-TIME:20260322T185926Z
URL:https://architekturtage.at/2019/ahk/programm/kalender/architekturtage-
 2026-festival-fuer-baukultur-und-ingenieurtechnik
END:VEVENT
END:VCALENDAR
