BEGIN:VCALENDAR
VERSION:2.0
PRODID:-//Plone.org//NONSGML plone.app.event//EN
X-WR-TIMEZONE:Europe/Vienna
BEGIN:VEVENT
SUMMARY:Theorie im Keller #39
DTSTART;TZID=Europe/Vienna:20260520T190000
DTSTAMP:20260420T160150Z
UID:42a22181cd364e0aaf4462ef1a3a1b18@architekturtage.at
CREATED:20260112T105615Z
DESCRIPTION:Ein Gespräch über die Publikation: Wir Günther Domenig: Kor
 rekturen einer Legende |\nDer Architekturtheoretiker\, Kulturwissenschaftl
 er\, Künstler\, Kurator und Co-Herausgeber des Buches Michael Zinganel is
 t im afo zu Gast.
GEO:48.30668892812408;14.291533827781677
LAST-MODIFIED:20260325T091729Z
LOCATION;ALTREP="https://architekturtage.at/2019/afo/lib/adressbuch/afo-ar
 chitekturforum-oberoesterreich":afo architekturforum oberösterreich\, Her
 bert-Bayer-Platz 1\, 4020 Linz\, Austria
URL:https://architekturtage.at/2019/afo/reihen/theorie-im-keller/39
END:VEVENT
BEGIN:VTIMEZONE
TZID:Europe/Vienna
X-LIC-LOCATION:Europe/Vienna
BEGIN:DAYLIGHT
DTSTART:20260329T030000
TZNAME:CEST
TZOFFSETFROM:+0100
TZOFFSETTO:+0200
END:DAYLIGHT
END:VTIMEZONE
END:VCALENDAR
