BEGIN:VCALENDAR
VERSION:2.0
PRODID:-//Plone.org//NONSGML plone.app.event//EN
X-WR-TIMEZONE:Europe/Vienna
BEGIN:VEVENT
SUMMARY:Crossing Europe Filmfestival | 2026 | Verdrängung & Verdrängtes
DTSTART;VALUE=DATE:20260428
DTEND;VALUE=DATE:20260504
DTSTAMP:20260420T023709Z
UID:b1acd03a2e234a3eb2858a5f29e5e7e0@architekturtage.at
CREATED:20260318T114724Z
DESCRIPTION:Die beiden  afo-Kurator*innen\, Mia Hemmerling und Gerald Wös
 s\, haben ein Programm rund um das Thema der Verdrängung\,  zusammengeste
 llt\, das den Blick auf politische und ökonomische Interessen\, soziale K
 ämpfe und demografischen Wandel richtet.
LAST-MODIFIED:20260325T093554Z
URL:https://architekturtage.at/2019/afo/programm/crossing-europe-filmfesti
 val-2026-architektur-und-gesellschaft
END:VEVENT
END:VCALENDAR
