BEGIN:VCALENDAR
VERSION:2.0
PRODID:-//Plone.org//NONSGML plone.app.event//EN
X-WR-TIMEZONE:Europe/Vienna
BEGIN:VEVENT
SUMMARY:Was verbindet Steyr?
DTSTART;TZID=Europe/Vienna;VALUE=DATE-TIME:20260529T100000
DTEND;TZID=Europe/Vienna;VALUE=DATE-TIME:20260529T180000
DTSTAMP;VALUE=DATE-TIME:20260422T051556Z
UID:9ec85f3461f84837a601978cfcfbe765@aaf-live-raw.web.kup.tirol
CATEGORIES:AT26
CREATED;VALUE=DATE-TIME:20260323T142816Z
DESCRIPTION:Gemeinsam mit den OPEN STUDIOS STEYR führt eine Radtour zu ak
 tuellen architektonischen Beiträgen in Steyr - zu Orten der Versorgung\, 
 des Miteinanders und der Baukultur.
GEO:48.039008613026226;14.419137239456177
LAST-MODIFIED;VALUE=DATE-TIME:20260325T102203Z
LOCATION;ALTREP="https://architekturtage.at/2019/afo/lib/adressbuch/stadtp
 latz-steyr":Stadtplatz Steyr\, 4400 Steyr\, Österreich
URL:https://architekturtage.at/2019/afo/programm/architekturtage-1/at26/wa
 s-verbindet-steyr
END:VEVENT
BEGIN:VTIMEZONE
TZID:Europe/Vienna
X-LIC-LOCATION:Europe/Vienna
BEGIN:DAYLIGHT
DTSTART;VALUE=DATE-TIME:20260329T030000
TZNAME:CEST
TZOFFSETFROM:+0100
TZOFFSETTO:+0200
END:DAYLIGHT
END:VTIMEZONE
END:VCALENDAR
