BEGIN:VCALENDAR
VERSION:2.0
PRODID:-//Plone.org//NONSGML plone.app.event//EN
X-WR-TIMEZONE:Europe/Vienna
BEGIN:VEVENT
SUMMARY:Open Studio - FH OÖ Campus Wels
DTSTART;TZID=Europe/Vienna:20260528T100000
DTEND;TZID=Europe/Vienna:20260528T180000
DTSTAMP:20260421T055143Z
UID:ec32b4b9387943e0bf7754feaa993670@architekturtage.at
CATEGORIES:AT26
CREATED:20260312T111830Z
DESCRIPTION:Die Veranstaltung richtet sich an alle\, die sich für ein Arc
 hitektur- oder Bauingenieurstudium interessieren – und ebenso an alle\, 
 die einen Blick auf die Weiterentwicklung der Ausbildungslandschaft in Obe
 rösterreich werfen möchten.
GEO:48.161559775087476;14.026988096884638
LAST-MODIFIED:20260323T090453Z
LOCATION;ALTREP="https://architekturtage.at/2019/afo/lib/adressbuch/archit
 ektur-bauingenieurwesen-der-fh-ooe-campus-wels":Architektur + Bauingenieur
 wesen der FH OÖ Campus Wels\, Roseggerstraße 26\, 4600 Wels\, Austria
URL:https://architekturtage.at/2019/afo/programm/architekturtage-1/at26/op
 en-studio-fh-ooe-campus-wels
END:VEVENT
BEGIN:VTIMEZONE
TZID:Europe/Vienna
X-LIC-LOCATION:Europe/Vienna
BEGIN:DAYLIGHT
DTSTART:20260329T030000
TZNAME:CEST
TZOFFSETFROM:+0100
TZOFFSETTO:+0200
END:DAYLIGHT
END:VTIMEZONE
END:VCALENDAR
