BEGIN:VCALENDAR
VERSION:2.0
PRODID:-//Plone.org//NONSGML plone.app.event//EN
X-WR-TIMEZONE:Europe/Vienna
BEGIN:VEVENT
SUMMARY:Abschluss der Architekturtage
DTSTART;TZID=Europe/Vienna;VALUE=DATE-TIME:20260530T150000
DTSTAMP;VALUE=DATE-TIME:20260422T020209Z
UID:19af1ef551db436dab0586dc636c6529@aaf-live-raw.web.kup.tirol
CATEGORIES:AT26
CREATED;VALUE=DATE-TIME:20260325T095336Z
DESCRIPTION:Ausklang der Architekturtage mit Programm im afo.
GEO:48.30668892812408;14.291533827781677
LAST-MODIFIED;VALUE=DATE-TIME:20260326T132027Z
LOCATION;ALTREP="https://architekturtage.at/2019/afo/lib/adressbuch/afo-ar
 chitekturforum-oberoesterreich":afo architekturforum oberösterreich\, Her
 bert-Bayer-Platz 1\, 4020 Linz\, Österreich
URL:https://architekturtage.at/2019/afo/programm/architekturtage-1/at26/ab
 schluss-der-architekturtage
END:VEVENT
BEGIN:VTIMEZONE
TZID:Europe/Vienna
X-LIC-LOCATION:Europe/Vienna
BEGIN:DAYLIGHT
DTSTART;VALUE=DATE-TIME:20260329T030000
TZNAME:CEST
TZOFFSETFROM:+0100
TZOFFSETTO:+0200
END:DAYLIGHT
END:VTIMEZONE
END:VCALENDAR
