BEGIN:VCALENDAR
VERSION:2.0
PRODID:-//Plone.org//NONSGML plone.app.event//EN
X-WR-TIMEZONE:Europe/Vienna
BEGIN:VEVENT
SUMMARY:3x3 | Nominierungsjury BHP‘26
DTSTART;TZID=Europe/Vienna:20260507T190000
DTSTAMP:20260421T162411Z
UID:8bc09dda959744c78d02cdff040b7a9c@architekturtage.at
CREATED:20260318T115550Z
DESCRIPTION:Die Veranstaltungsreihe 3x3 der Zentralvereinigung der Archite
 kt*innen holt diesmal die Bauherr*innenpreis- Nominierungsjury für das Bu
 ndesland Oberösterreich vor den Vorhang.
GEO:48.30668892812408;14.291533827781677
LAST-MODIFIED:20260318T121311Z
LOCATION;ALTREP="https://architekturtage.at/2019/afo/lib/adressbuch/afo-ar
 chitekturforum-oberoesterreich":afo architekturforum oberösterreich\, Her
 bert-Bayer-Platz 1\, 4020 Linz\, Austria
URL:https://architekturtage.at/2019/afo/programm/3x3-nominierungsjury-bhp-
 26
END:VEVENT
BEGIN:VTIMEZONE
TZID:Europe/Vienna
X-LIC-LOCATION:Europe/Vienna
BEGIN:DAYLIGHT
DTSTART:20260329T030000
TZNAME:CEST
TZOFFSETFROM:+0100
TZOFFSETTO:+0200
END:DAYLIGHT
END:VTIMEZONE
END:VCALENDAR
