BEGIN:VCALENDAR
VERSION:2.0
PRODID:-//Plone.org//NONSGML plone.app.event//EN
X-WR-TIMEZONE:Europe/Vienna
BEGIN:VEVENT
SUMMARY:Eröffnung: Alles Silo – Gerhard Kowald
DTSTART;TZID=Europe/Vienna:20260530T170000
DTSTAMP:20260420T214453Z
UID:894d2109e84648d5893b264cece06f4c@architekturtage.at
CATEGORIES:AT26
CREATED:20260312T102351Z
DESCRIPTION:Das afo architekturforum oberösterreich zeigt im Rahmen der A
 rchitekturtage 2026 „Was uns verbindet – Infrastrukturen des Alltags
 “ die fotografischen Arbeiten von Gerhard Kowald im Kellergewölbe der a
 lten Volksküche.
GEO:48.30668892812408;14.291533827781677
LAST-MODIFIED:20260409T125146Z
LOCATION;ALTREP="https://architekturtage.at/2019/afo/lib/adressbuch/afo-ar
 chitekturforum-oberoesterreich":afo architekturforum oberösterreich\, Her
 bert-Bayer-Platz 1\, 4020 Linz\, Austria
URL:https://architekturtage.at/2019/afo/ausstellungen/fotoausstellung
END:VEVENT
BEGIN:VTIMEZONE
TZID:Europe/Vienna
X-LIC-LOCATION:Europe/Vienna
BEGIN:DAYLIGHT
DTSTART:20260329T030000
TZNAME:CEST
TZOFFSETFROM:+0100
TZOFFSETTO:+0200
END:DAYLIGHT
END:VTIMEZONE
END:VCALENDAR
