BEGIN:VCALENDAR
VERSION:2.0
PRODID:-//Plone.org//NONSGML plone.app.event//EN
X-WR-TIMEZONE:Europe/Vienna
BEGIN:VEVENT
SUMMARY:Südliches Burgenland
DTSTART;VALUE=DATE:20260618
DTEND;VALUE=DATE:20260620
DTSTAMP:20260421T182214Z
UID:9f7b0cd93aad4c8f99c7f1ac75a76c62@architekturtage.at
CATEGORIES:Exkursion
CREATED:20260331T115955Z
DESCRIPTION:Auf ins Südburgenland! Unsere zweitägige Busexkursion führt
  uns zu spannenden aktuellen Bauprojekten und ausgewählten Highlights.
LAST-MODIFIED:20260408T120306Z
LOCATION:Treffpunkt: 7.00 Uhr \nBusterminal Nonntal\nErzabt-Klotz-Straße 
 6a\n5020 Salzburg
URL:https://architekturtage.at/2018/ia/kalender/burgenland
END:VEVENT
END:VCALENDAR
