BEGIN:VCALENDAR
VERSION:2.0
PRODID:-//Plone.org//NONSGML plone.app.event//EN
X-WR-TIMEZONE:Europe/Vienna
BEGIN:VEVENT
SUMMARY:Baubesprechung #89
DTSTART;TZID=Europe/Vienna:20260529T170000
DTSTAMP:20260421T021426Z
UID:49bb8a3f24de4fdf87a4034aefc4aca0@architekturtage.at
CATEGORIES:AT26
CREATED:20260226T162055Z
DESCRIPTION:In Wels entsteht mit dem neuen Volksgarten das größte Entsie
 gelungsprojekt Österreichs. Auf über 10 Hektar entwickelt sich entlang d
 er Traun ein Landschaftspark für Erholung und als zentraler Ort der Lande
 sgartenschau 2027. Eine Baustellenführung mit der Baudirektion Wels zeigt
  Planung und Umsetzung des Projekts.
GEO:48.156;14.034
LAST-MODIFIED:20260312T104711Z
LOCATION;ALTREP="https://architekturtage.at/2018/afo/lib/adressbuch/stadth
 alle-wels":Stadthalle Wels\, Pollheimerstraße 1\, 4600 Wels\, Austria
URL:https://architekturtage.at/2018/afo/reihen/baubesprechung/bb89
END:VEVENT
BEGIN:VTIMEZONE
TZID:Europe/Vienna
X-LIC-LOCATION:Europe/Vienna
BEGIN:DAYLIGHT
DTSTART:20260329T030000
TZNAME:CEST
TZOFFSETFROM:+0100
TZOFFSETTO:+0200
END:DAYLIGHT
END:VTIMEZONE
END:VCALENDAR
