BEGIN:VCALENDAR
VERSION:2.0
PRODID:-//Plone.org//NONSGML plone.app.event//EN
X-WR-TIMEZONE:Europe/Vienna
BEGIN:VEVENT
SUMMARY:Ziviltechniker:innen auf dem Freistädter Genussmarkt
DTSTART;TZID=Europe/Vienna:20260529T140000
DTEND;TZID=Europe/Vienna:20260529T180000
DTSTAMP:20260421T071132Z
UID:bfe40ab88f3046cdbb7b70a5033dc8be@architekturtage.at
CATEGORIES:AT26
CREATED:20260226T161112Z
DESCRIPTION:Ziviltechniker:innen-Büros aus Freistadt und Umgebung stellen
  sich und Ihre Arbeit auf dem traditionellen „Frischemarkt“ am Freist
 ädter Hauptplatz vor.
GEO:48.51149238251356;14.504687482208723
LAST-MODIFIED:20260310T094531Z
LOCATION;ALTREP="https://architekturtage.at/2018/afo/lib/adressbuch/hauptp
 latz-freistadt":Hauptplatz Freistadt\, Hauptplatz 1\, 4240 Freistadt\, Aus
 tria
URL:https://architekturtage.at/2018/afo/programm/architekturtage-1/at26/tr
 effpunkt-markt
END:VEVENT
BEGIN:VTIMEZONE
TZID:Europe/Vienna
X-LIC-LOCATION:Europe/Vienna
BEGIN:DAYLIGHT
DTSTART:20260329T030000
TZNAME:CEST
TZOFFSETFROM:+0100
TZOFFSETTO:+0200
END:DAYLIGHT
END:VTIMEZONE
END:VCALENDAR
