BEGIN:VCALENDAR
VERSION:2.0
PRODID:-//Plone.org//NONSGML plone.app.event//EN
X-WR-TIMEZONE:Europe/Vienna
BEGIN:VEVENT
SUMMARY:Stadtspaziergang Öffentlicher Raum
DTSTART;TZID=Europe/Vienna:20260529T140000
DTEND;TZID=Europe/Vienna:20260529T160000
DTSTAMP:20260421T181404Z
UID:1abebfac82934ade98c4190f884765e9@architekturtage.at
CATEGORIES:AT26
CREATED:20260226T162907Z
DESCRIPTION:Vertreter*innen der Stadtplanung Linz (Geschäftsbereich Planu
 ng\, Technik\, Umwelt) führen in einem Stadtspaziergang zur vier aktuelle
 n Innenstadt-Entwicklungsprojekten (Wildberg-Areal\, Urfahraner Markt\, Ha
 uptplatz Linz und Martin-Luther-Platz). Im Fokus ist der öffentliche Raum
  als Ort des Austausches\, des Aufenthalts und der Erholung und damit in s
 einer zentralen Funktion als soziale Infrastruktur der Stadt. Erfahren Sie
  mehr zu den Gestaltungsideen\, dem Planungs- und Umsetzungsstand.
GEO:48.31566059159114;14.28424759727669
LAST-MODIFIED:20260310T094504Z
LOCATION;ALTREP="https://architekturtage.at/2018/afo/lib/adressbuch/sparka
 sse-oberoesterreich-urfahr":Sparkasse Oberösterreich - Urfahr\, Sparkasse
 nplatz 2\, 4020 Linz\, Austria
URL:https://architekturtage.at/2018/afo/programm/architekturtage-1/at26/st
 adtspaziergang-oeffentlicher-raum
END:VEVENT
BEGIN:VTIMEZONE
TZID:Europe/Vienna
X-LIC-LOCATION:Europe/Vienna
BEGIN:DAYLIGHT
DTSTART:20260329T030000
TZNAME:CEST
TZOFFSETFROM:+0100
TZOFFSETTO:+0200
END:DAYLIGHT
END:VTIMEZONE
END:VCALENDAR
